BEGIN:VCALENDAR
VERSION:2.0
PRODID:-//endED - ECPv5.0.2.1//NONSGML v1.0//EN
CALSCALE:GREGORIAN
METHOD:PUBLISH
X-WR-CALNAME:endED
X-ORIGINAL-URL:https://www.ended.org.au
X-WR-CALDESC:Events for endED
BEGIN:VTIMEZONE
TZID:Australia/Brisbane
BEGIN:STANDARD
TZOFFSETFROM:+1000
TZOFFSETTO:+1000
TZNAME:AEST
DTSTART:20200101T000000
END:STANDARD
END:VTIMEZONE
BEGIN:VEVENT
DTSTART;TZID=Australia/Brisbane:20200615T090000
DTEND;TZID=Australia/Brisbane:20200615T120000
DTSTAMP:20200229T175333
CREATED:20200227T063913Z
LAST-MODIFIED:20200227T064525Z
UID:205744-1592211600-1592222400@www.ended.org.au
SUMMARY:A Morning with Carolyn Costin 15th June
DESCRIPTION:Carolyn Costin is a world renowned\, highly sought-after eating disorder clinician\, author\, and international speaker. Carolyn was the first to publicly take the position that people with eating disorders can become fully recovered. She opened the first residential program for eating disorders in the USA and is the first to train\, supervise and certify eating disorder Recovery Coaches. She is an active\, passionate\, inspiring force in the eating disorder field. \nCarolyn will utilise the 8 Keys book as a guide whilst delivering a hands-on\, skills-based workshop. covering topics such as ambivalence\, collaboration\, goal setting and resistance. Carolyn will also delineate specific strategies and techniques. \nThis workshop will engage all participants allowing them to ask questions about role play and difficult cases as well as working through various scenarios provided by Carolyn. \nTickets are $65pp \nPurchase your ticket and RSVP today\n
URL:https://www.ended.org.au/event/a-morning-with-carolyn-costin-15th-june/
LOCATION:Mercure Sunshine Coast\, 9 Florey Boulevard\, Birtinya\, QLD\, 4575\, Australia
ATTACH;FMTTYPE=image/jpeg:https://www.ended.org.au/wp-content/uploads/2019/11/END31492_Carolyn_Costin_Workshop_Revised_Flyer_FAweb.jpg
END:VEVENT
END:VCALENDAR