BEGIN:VCALENDAR
VERSION:2.0
PRODID:-//endED - ECPv5.0.2.1//NONSGML v1.0//EN
CALSCALE:GREGORIAN
METHOD:PUBLISH
X-WR-CALNAME:endED
X-ORIGINAL-URL:https://www.ended.org.au
X-WR-CALDESC:Events for endED
BEGIN:VTIMEZONE
TZID:Australia/Brisbane
BEGIN:STANDARD
TZOFFSETFROM:+1000
TZOFFSETTO:+1000
TZNAME:AEST
DTSTART:20190101T000000
END:STANDARD
END:VTIMEZONE
BEGIN:VEVENT
DTSTART;TZID=Australia/Brisbane:20190719T183000
DTEND;TZID=Australia/Brisbane:20190719T183000
DTSTAMP:20200229T180623
CREATED:20190416T052226Z
LAST-MODIFIED:20190517T021227Z
UID:205190-1563561000-1563561000@www.ended.org.au
SUMMARY:The Main Event
DESCRIPTION:THE MAIN EVENT IS A HIGH BAR event that will allow Guests to mingle and network and allows the unique opportunity for you to listen to Personal Eating Disorder experiences from the endED Team. TRIUMPH THROUGH ADVERSITY will be the theme of an interview between Matt Golinski and endED lived experience staff. \nRegister Now \n \nRegister Now \n
URL:https://www.ended.org.au/event/the-main-event/
LOCATION:Venue 114\, 114 Sportsmans Parade Bokarina\, Australia
END:VEVENT
END:VCALENDAR